BEGIN:VCALENDAR
VERSION:2.0
PRODID:-//Beau&#039;s Grille - ECPv6.15.20//NONSGML v1.0//EN
CALSCALE:GREGORIAN
METHOD:PUBLISH
X-WR-CALNAME:Beau&#039;s Grille
X-ORIGINAL-URL:https://beausgrille.com
X-WR-CALDESC:Events for Beau&#039;s Grille
REFRESH-INTERVAL;VALUE=DURATION:PT1H
X-Robots-Tag:noindex
X-PUBLISHED-TTL:PT1H
BEGIN:VTIMEZONE
TZID:America/New_York
BEGIN:DAYLIGHT
TZOFFSETFROM:-0500
TZOFFSETTO:-0400
TZNAME:EDT
DTSTART:20250309T070000
END:DAYLIGHT
BEGIN:STANDARD
TZOFFSETFROM:-0400
TZOFFSETTO:-0500
TZNAME:EST
DTSTART:20251102T060000
END:STANDARD
BEGIN:DAYLIGHT
TZOFFSETFROM:-0500
TZOFFSETTO:-0400
TZNAME:EDT
DTSTART:20260308T070000
END:DAYLIGHT
BEGIN:STANDARD
TZOFFSETFROM:-0400
TZOFFSETTO:-0500
TZNAME:EST
DTSTART:20261101T060000
END:STANDARD
BEGIN:DAYLIGHT
TZOFFSETFROM:-0500
TZOFFSETTO:-0400
TZNAME:EDT
DTSTART:20270314T070000
END:DAYLIGHT
BEGIN:STANDARD
TZOFFSETFROM:-0400
TZOFFSETTO:-0500
TZNAME:EST
DTSTART:20271107T060000
END:STANDARD
END:VTIMEZONE
BEGIN:VEVENT
DTSTART;TZID=America/New_York:20260206T190000
DTEND;TZID=America/New_York:20260206T220000
DTSTAMP:20260424T061501
CREATED:20260108T143037Z
LAST-MODIFIED:20260108T143037Z
UID:4621-1770404400-1770415200@beausgrille.com
SUMMARY:Chad Hoffman
DESCRIPTION:
URL:https://beausgrille.com/event/chad-hoffman-2/
CATEGORIES:Entertainment
ATTACH;FMTTYPE=image/jpeg:https://beausgrille.com/wp-content/uploads/2026/01/Chad-Hoffman2.jpg
END:VEVENT
BEGIN:VEVENT
DTSTART;TZID=America/New_York:20260207T190000
DTEND;TZID=America/New_York:20260207T220000
DTSTAMP:20260424T061501
CREATED:20180102T170413Z
LAST-MODIFIED:20260108T143118Z
UID:1932-1770490800-1770501600@beausgrille.com
SUMMARY:Danny Clark
DESCRIPTION:
URL:https://beausgrille.com/event/danny-clark-9/
CATEGORIES:Entertainment
ATTACH;FMTTYPE=image/jpeg:https://beausgrille.com/wp-content/uploads/2026/01/Danny-Clark-2.jpg
END:VEVENT
BEGIN:VEVENT
DTSTART;TZID=America/New_York:20260221T190000
DTEND;TZID=America/New_York:20260221T220000
DTSTAMP:20260424T061501
CREATED:20190328T004050Z
LAST-MODIFIED:20260108T143301Z
UID:2308-1771700400-1771711200@beausgrille.com
SUMMARY:Steve'O
DESCRIPTION:
URL:https://beausgrille.com/event/little-steveo/
CATEGORIES:Entertainment
ATTACH;FMTTYPE=image/jpeg:https://beausgrille.com/wp-content/uploads/2023/10/Little-Steve-O_4983.jpg
END:VEVENT
BEGIN:VEVENT
DTSTART;TZID=America/New_York:20260228T190000
DTEND;TZID=America/New_York:20260228T220000
DTSTAMP:20260424T061501
CREATED:20250128T221722Z
LAST-MODIFIED:20260108T143406Z
UID:4501-1772305200-1772316000@beausgrille.com
SUMMARY:John Markovic
DESCRIPTION:
URL:https://beausgrille.com/event/john-markovic/
CATEGORIES:Entertainment
ATTACH;FMTTYPE=image/jpeg:https://beausgrille.com/wp-content/uploads/2026/01/John-Markovic1.jpg
END:VEVENT
END:VCALENDAR